BEGIN:VCALENDAR
VERSION:2.0
PRODID:spatie/icalendar-generator
DESCRIPTION:Events from Children
X-WR-CALDESC:Events from Children
REFRESH-INTERVAL;VALUE=DURATION:PT1440M
X-PUBLISHED-TTL:PT1440M
BEGIN:VTIMEZONE
TZID:Etc/GMT+0
BEGIN:STANDARD
DTSTART:20231120T000000Z
TZOFFSETFROM:+0000
TZOFFSETTO:+0000
END:STANDARD
END:VTIMEZONE
BEGIN:VTIMEZONE
TZID:UTC
BEGIN:STANDARD
DTSTART:20250726T220743Z
TZOFFSETFROM:+0000
TZOFFSETTO:+0000
END:STANDARD
END:VTIMEZONE
BEGIN:VEVENT
UID:551-122
DTSTAMP:20260422T220743Z
SUMMARY:OUR SUMMER FESTIVAL PARTY / BBQ     --NO PACKED LUNCH REQUIRED
LOCATION:
ORGANIZER;CN=southwayplaycare:MAILTO:admin@southwayplaycare.co.uk
DTSTART;TZID=Etc/GMT+0:20240816T000000
DTEND;TZID=Etc/GMT+0:20240816T010000
X-ALT-DESC;FMTTYPE=TEXT/HTML:
CATEGORIES:After School Club
URL;VALUE=URI:https://southwayplaycare.co.uk/mc-events/our-summer-festival-
 party-bbq-no-packed-lunch-required/
METHOD:PUBLISH
END:VEVENT
END:VCALENDAR