BEGIN:VCALENDAR
VERSION:2.0
PRODID:spatie/icalendar-generator
DESCRIPTION:Events from Children
X-WR-CALDESC:Events from Children
REFRESH-INTERVAL;VALUE=DURATION:PT1440M
X-PUBLISHED-TTL:PT1440M
BEGIN:VTIMEZONE
TZID:Etc/GMT+0
BEGIN:STANDARD
DTSTART:20220901T000000Z
TZOFFSETFROM:+0000
TZOFFSETTO:+0000
END:STANDARD
END:VTIMEZONE
BEGIN:VTIMEZONE
TZID:UTC
BEGIN:STANDARD
DTSTART:20250724T124124Z
TZOFFSETFROM:+0000
TZOFFSETTO:+0000
END:STANDARD
END:VTIMEZONE
BEGIN:VEVENT
UID:232-37
DTSTAMP:20260420T124124Z
SUMMARY:BANK  HOLIDAY  CLOSED
LOCATION:
ORGANIZER;CN=southwayplaycare:MAILTO:admin@southwayplaycare.co.uk
DTSTART;TZID=Etc/GMT+0;VALUE=DATE:20230529
DTEND;TZID=Etc/GMT+0;VALUE=DATE:20230530
X-ALT-DESC;FMTTYPE=TEXT/HTML:Child care and fun activities during holiday.
CATEGORIES:Holiday Club
URL;VALUE=URI:https://southwayplaycare.co.uk/mc-events/bank-holiday-closed-
 4/
METHOD:PUBLISH
END:VEVENT
END:VCALENDAR